BEGIN:VCALENDAR
VERSION:2.0
PRODID:-//BC Living Lab - ECPv6.15.15//NONSGML v1.0//EN
CALSCALE:GREGORIAN
METHOD:PUBLISH
X-ORIGINAL-URL:https://bclivinglab.ca
X-WR-CALDESC:Events for BC Living Lab
REFRESH-INTERVAL;VALUE=DURATION:PT1H
X-Robots-Tag:noindex
X-PUBLISHED-TTL:PT1H
BEGIN:VTIMEZONE
TZID:America/Vancouver
BEGIN:DAYLIGHT
TZOFFSETFROM:-0800
TZOFFSETTO:-0700
TZNAME:PDT
DTSTART:20230312T100000
END:DAYLIGHT
BEGIN:STANDARD
TZOFFSETFROM:-0700
TZOFFSETTO:-0800
TZNAME:PST
DTSTART:20231105T090000
END:STANDARD
BEGIN:DAYLIGHT
TZOFFSETFROM:-0800
TZOFFSETTO:-0700
TZNAME:PDT
DTSTART:20240310T100000
END:DAYLIGHT
BEGIN:STANDARD
TZOFFSETFROM:-0700
TZOFFSETTO:-0800
TZNAME:PST
DTSTART:20241103T090000
END:STANDARD
BEGIN:DAYLIGHT
TZOFFSETFROM:-0800
TZOFFSETTO:-0700
TZNAME:PDT
DTSTART:20250309T100000
END:DAYLIGHT
BEGIN:STANDARD
TZOFFSETFROM:-0700
TZOFFSETTO:-0800
TZNAME:PST
DTSTART:20251102T090000
END:STANDARD
END:VTIMEZONE
BEGIN:VEVENT
DTSTART;TZID=America/Vancouver:20240914T090000
DTEND;TZID=America/Vancouver:20240914T160000
DTSTAMP:20260423T155648
CREATED:20240828T202853Z
LAST-MODIFIED:20240905T183932Z
UID:2114-1726304400-1726329600@bclivinglab.ca
SUMMARY:BC Hazelnut Growers Annual Summer Field Day
DESCRIPTION:Join the BC Hazelnut Growers Association for their Annual Summer Field Day on Saturday\, September 14. Meet growers from across the province to learn about growing\, harvesting and marketing hazelnuts. \nThe morning include a tour of Woodgrove Farm\, a BC Living Lab Perennial Row Crop trial site\, starting at 10:00 AM. This past spring the site was part of a cover crop (legume mix) trail and a nitrogen management trial. Come out to the field day and learn about the trials! \nREGISTER
URL:https://bclivinglab.ca/event/bc-hazelnut-growers-annual-summer-field-day/
CATEGORIES:Field Day,Perennial Row Crops
END:VEVENT
BEGIN:VEVENT
DTSTART;TZID=America/Vancouver:20240822T090000
DTEND;TZID=America/Vancouver:20240822T120000
DTSTAMP:20260423T155648
CREATED:20240816T180641Z
LAST-MODIFIED:20240816T180641Z
UID:2109-1724317200-1724328000@bclivinglab.ca
SUMMARY:Cover Cropping site visit with the Summerland Research and Development Centre - South Okanagan
DESCRIPTION:Join Dr. Mehdi Sharifi and Trista Algar on Thursday\, August 22\, 2024\, to visit different vineyards\, discuss cover cropping techniques\, and explore cover crop trails established in May 2024. \nThursday\, August 22\, 2024 – South Okanagan\n9:00 AM – 12:00 PM\nLocation(s): La Vieux Pin Vineyards (Oliver)\, Diamondback Vineyards (Oliver) & Sebastian Farms – 33 (Osoyoos)\nMax capacity: 30 \nTo register\, email Dr. Mehdi Sharifi at mehdi.sharifi@agr.bc.ca
URL:https://bclivinglab.ca/event/cover-cropping-site-visit-with-the-summerland-research-and-development-centre-south-okanagan/
LOCATION:Le Vieux Pin Vineyards\, 5496 Black Sage Rd\, Oliver\, BC\, V0H 1T1\, Canada
CATEGORIES:Field Day
END:VEVENT
BEGIN:VEVENT
DTSTART;TZID=America/Vancouver:20240821T090000
DTEND;TZID=America/Vancouver:20240821T120000
DTSTAMP:20260423T155648
CREATED:20240816T180241Z
LAST-MODIFIED:20240816T180747Z
UID:2106-1724230800-1724241600@bclivinglab.ca
SUMMARY:Cover Cropping site visit with the Summerland Research and Development Centre - Central Okanagan
DESCRIPTION:Join Dr. Mehdi Sharifi and Trista Algar on Wednesday\, August 21 to visit different vineyards\, discuss cover cropping techniques\, and explore cover crop trails established in May 2024. \nWednesday\, August 21\, 2024 – Central Okanagan\n9:00 AM – 12:00 PM\nLocation(s): Little Straw Vineyards (West Kelowna) & St. Hubertus Vineyards (Kelowna)\nMax capacity: 30 \nTo register\, email Dr. Mehdi Sharifi at mehdi.sharifi@agr.bc.ca
URL:https://bclivinglab.ca/event/cover-cropping-site-visit-with-the-summerland-research-and-development-centre-central-okanagan/
LOCATION:Little Straw Vineyards\, 2815 Ourtoland Rd\, West Kelowna\, BC\, V1Z 2H7
CATEGORIES:Field Day
END:VEVENT
END:VCALENDAR