BEGIN:VCALENDAR
VERSION:2.0
PRODID:-//BC Living Lab - ECPv6.15.15//NONSGML v1.0//EN
CALSCALE:GREGORIAN
METHOD:PUBLISH
X-ORIGINAL-URL:https://bclivinglab.ca
X-WR-CALDESC:Events for BC Living Lab
REFRESH-INTERVAL;VALUE=DURATION:PT1H
X-Robots-Tag:noindex
X-PUBLISHED-TTL:PT1H
BEGIN:VTIMEZONE
TZID:America/Vancouver
BEGIN:DAYLIGHT
TZOFFSETFROM:-0800
TZOFFSETTO:-0700
TZNAME:PDT
DTSTART:20230312T100000
END:DAYLIGHT
BEGIN:STANDARD
TZOFFSETFROM:-0700
TZOFFSETTO:-0800
TZNAME:PST
DTSTART:20231105T090000
END:STANDARD
BEGIN:DAYLIGHT
TZOFFSETFROM:-0800
TZOFFSETTO:-0700
TZNAME:PDT
DTSTART:20240310T100000
END:DAYLIGHT
BEGIN:STANDARD
TZOFFSETFROM:-0700
TZOFFSETTO:-0800
TZNAME:PST
DTSTART:20241103T090000
END:STANDARD
BEGIN:DAYLIGHT
TZOFFSETFROM:-0800
TZOFFSETTO:-0700
TZNAME:PDT
DTSTART:20250309T100000
END:DAYLIGHT
BEGIN:STANDARD
TZOFFSETFROM:-0700
TZOFFSETTO:-0800
TZNAME:PST
DTSTART:20251102T090000
END:STANDARD
BEGIN:DAYLIGHT
TZOFFSETFROM:-0800
TZOFFSETTO:-0700
TZNAME:PDT
DTSTART:20260308T100000
END:DAYLIGHT
BEGIN:STANDARD
TZOFFSETFROM:-0700
TZOFFSETTO:-0800
TZNAME:PST
DTSTART:20261101T090000
END:STANDARD
END:VTIMEZONE
BEGIN:VEVENT
DTSTART;TZID=America/Vancouver:20250805T090000
DTEND;TZID=America/Vancouver:20250806T130000
DTSTAMP:20260420T030537
CREATED:20250718T231306Z
LAST-MODIFIED:20250718T231306Z
UID:2280-1754384400-1754485200@bclivinglab.ca
SUMMARY:Biodiversity in the Vineyard
DESCRIPTION:Don’t miss your chance to take part in two days of in-field workshops focused on soil health\, native plants\, cover crops\, nematodes\, and beneficial insects in BC vineyards. Both days include tours of BC Living Lab sites—learn about the project background\, goals\, and current research. These hands-on sessions offer a unique opportunity to learn directly from researchers and viticulturists in real vineyard settings. \nSouthern Tour: Oliver & Okanagan Falls – August 5\, 9:00 AM – 1:00 PM\nRegister for Southern Tour \n Northern Tour: West Kelowna & Kelowna – August 6\, 9:00 AM – 1:00 PM\nRegister for Northern Tour
URL:https://bclivinglab.ca/event/biodiversity-in-the-vineyard/
CATEGORIES:Perennial Row Crops
END:VEVENT
BEGIN:VEVENT
DTSTART;TZID=America/Vancouver:20240914T090000
DTEND;TZID=America/Vancouver:20240914T160000
DTSTAMP:20260420T030537
CREATED:20240828T202853Z
LAST-MODIFIED:20240905T183932Z
UID:2114-1726304400-1726329600@bclivinglab.ca
SUMMARY:BC Hazelnut Growers Annual Summer Field Day
DESCRIPTION:Join the BC Hazelnut Growers Association for their Annual Summer Field Day on Saturday\, September 14. Meet growers from across the province to learn about growing\, harvesting and marketing hazelnuts. \nThe morning include a tour of Woodgrove Farm\, a BC Living Lab Perennial Row Crop trial site\, starting at 10:00 AM. This past spring the site was part of a cover crop (legume mix) trail and a nitrogen management trial. Come out to the field day and learn about the trials! \nREGISTER
URL:https://bclivinglab.ca/event/bc-hazelnut-growers-annual-summer-field-day/
CATEGORIES:Field Day,Perennial Row Crops
END:VEVENT
END:VCALENDAR